BEGIN:VCALENDAR
VERSION:2.0
PRODID:-//kleine ERIKA - ECPv6.15.17.1//NONSGML v1.0//EN
CALSCALE:GREGORIAN
METHOD:PUBLISH
X-ORIGINAL-URL:https://kleine-erika.de
X-WR-CALDESC:Veranstaltungen für kleine ERIKA
REFRESH-INTERVAL;VALUE=DURATION:PT1H
X-Robots-Tag:noindex
X-PUBLISHED-TTL:PT1H
BEGIN:VTIMEZONE
TZID:Europe/Berlin
BEGIN:DAYLIGHT
TZOFFSETFROM:+0100
TZOFFSETTO:+0200
TZNAME:CEST
DTSTART:20250330T010000
END:DAYLIGHT
BEGIN:STANDARD
TZOFFSETFROM:+0200
TZOFFSETTO:+0100
TZNAME:CET
DTSTART:20251026T010000
END:STANDARD
BEGIN:DAYLIGHT
TZOFFSETFROM:+0100
TZOFFSETTO:+0200
TZNAME:CEST
DTSTART:20260329T010000
END:DAYLIGHT
BEGIN:STANDARD
TZOFFSETFROM:+0200
TZOFFSETTO:+0100
TZNAME:CET
DTSTART:20261025T010000
END:STANDARD
BEGIN:DAYLIGHT
TZOFFSETFROM:+0100
TZOFFSETTO:+0200
TZNAME:CEST
DTSTART:20270328T010000
END:DAYLIGHT
BEGIN:STANDARD
TZOFFSETFROM:+0200
TZOFFSETTO:+0100
TZNAME:CET
DTSTART:20271031T010000
END:STANDARD
END:VTIMEZONE
BEGIN:VEVENT
DTSTART;TZID=Europe/Berlin:20260510T103000
DTEND;TZID=Europe/Berlin:20260510T170000
DTSTAMP:20260424T234844
CREATED:20260417T091459Z
LAST-MODIFIED:20260417T091459Z
UID:10005843-1778409000-1778432400@kleine-erika.de
SUMMARY:Aktionstag: Nachhaltig Uelzen
DESCRIPTION:Hier findet ihr jede Menge Infos rund um das Thema Nachhaltigkeit\, Regionalität und Klimaschutz. Es gibt tolle Aktionen\, kulinarische Angebote\, Musik und auf die Kinder warten auch tolle Sachen\, zum Beispiel: \n\nWaldpädagogik-Mitmachaktionen\ndas ErlebnisNatur-Mobil vom Anglerverband Niedersachsen\nBogenschießen\nPonyreiten\nKanufahren und mehr
URL:https://kleine-erika.de/event/aktionstag-nachhaltig-uelzen/
LOCATION:Woltersburger Mühle\, Woltersburger Mühle 1\, Uelzen\, 29525
CATEGORIES:Infoveranstaltung,Lernen & Entdecken
ATTACH;FMTTYPE=image/jpeg:https://kleine-erika.de/wp-content/uploads/2026/04/IMG_9264.jpeg
END:VEVENT
END:VCALENDAR