BEGIN:VCALENDAR
VERSION:2.0
PRODID:-//kleine ERIKA - ECPv6.15.17.1//NONSGML v1.0//EN
CALSCALE:GREGORIAN
METHOD:PUBLISH
X-WR-CALNAME:kleine ERIKA
X-ORIGINAL-URL:https://kleine-erika.de
X-WR-CALDESC:Veranstaltungen für kleine ERIKA
REFRESH-INTERVAL;VALUE=DURATION:PT1H
X-Robots-Tag:noindex
X-PUBLISHED-TTL:PT1H
BEGIN:VTIMEZONE
TZID:Europe/Berlin
BEGIN:DAYLIGHT
TZOFFSETFROM:+0100
TZOFFSETTO:+0200
TZNAME:CEST
DTSTART:20250330T010000
END:DAYLIGHT
BEGIN:STANDARD
TZOFFSETFROM:+0200
TZOFFSETTO:+0100
TZNAME:CET
DTSTART:20251026T010000
END:STANDARD
BEGIN:DAYLIGHT
TZOFFSETFROM:+0100
TZOFFSETTO:+0200
TZNAME:CEST
DTSTART:20260329T010000
END:DAYLIGHT
BEGIN:STANDARD
TZOFFSETFROM:+0200
TZOFFSETTO:+0100
TZNAME:CET
DTSTART:20261025T010000
END:STANDARD
BEGIN:DAYLIGHT
TZOFFSETFROM:+0100
TZOFFSETTO:+0200
TZNAME:CEST
DTSTART:20270328T010000
END:DAYLIGHT
BEGIN:STANDARD
TZOFFSETFROM:+0200
TZOFFSETTO:+0100
TZNAME:CET
DTSTART:20271031T010000
END:STANDARD
END:VTIMEZONE
BEGIN:VEVENT
DTSTART;TZID=Europe/Berlin:20260501T140000
DTEND;TZID=Europe/Berlin:20260501T180000
DTSTAMP:20260420T151853
CREATED:20260410T140329Z
LAST-MODIFIED:20260410T140329Z
UID:10005834-1777644000-1777658400@kleine-erika.de
SUMMARY:Frauen- und Kinderflohmarkt in Grünhagen
DESCRIPTION:Im Mai erwartet euch rund um das Dorfgemeinschaftshaus in Grünhagen ein liebevoller Flohmarkt für Groß und Klein. \nWährend die Kinder auf dem Spielplatz toben\, könnt ihr entspannt bummeln oder bei Kaffee & selbstgebackenem Kuchen die Zeit genießen.
URL:https://kleine-erika.de/event/frauen-und-kinderflohmarkt-in-gruenhagen/
LOCATION:Dorfgemeinschaftshaus Grünhagen\, Am Beek 2 a\, Grünhagen\, 29553
CATEGORIES:Flohmärkte
ATTACH;FMTTYPE=image/jpeg:https://kleine-erika.de/wp-content/uploads/2026/04/5ef7f395-4044-463f-b3a9-0f6163ed67b0.jpg
END:VEVENT
END:VCALENDAR