BEGIN:VCALENDAR
VERSION:2.0
PRODID:-//kleine ERIKA - ECPv6.15.17.1//NONSGML v1.0//EN
CALSCALE:GREGORIAN
METHOD:PUBLISH
X-ORIGINAL-URL:https://kleine-erika.de
X-WR-CALDESC:Veranstaltungen für kleine ERIKA
REFRESH-INTERVAL;VALUE=DURATION:PT1H
X-Robots-Tag:noindex
X-PUBLISHED-TTL:PT1H
BEGIN:VTIMEZONE
TZID:Europe/Berlin
BEGIN:DAYLIGHT
TZOFFSETFROM:+0100
TZOFFSETTO:+0200
TZNAME:CEST
DTSTART:20250330T010000
END:DAYLIGHT
BEGIN:STANDARD
TZOFFSETFROM:+0200
TZOFFSETTO:+0100
TZNAME:CET
DTSTART:20251026T010000
END:STANDARD
BEGIN:DAYLIGHT
TZOFFSETFROM:+0100
TZOFFSETTO:+0200
TZNAME:CEST
DTSTART:20260329T010000
END:DAYLIGHT
BEGIN:STANDARD
TZOFFSETFROM:+0200
TZOFFSETTO:+0100
TZNAME:CET
DTSTART:20261025T010000
END:STANDARD
BEGIN:DAYLIGHT
TZOFFSETFROM:+0100
TZOFFSETTO:+0200
TZNAME:CEST
DTSTART:20270328T010000
END:DAYLIGHT
BEGIN:STANDARD
TZOFFSETFROM:+0200
TZOFFSETTO:+0100
TZNAME:CET
DTSTART:20271031T010000
END:STANDARD
BEGIN:DAYLIGHT
TZOFFSETFROM:+0100
TZOFFSETTO:+0200
TZNAME:CEST
DTSTART:20280326T010000
END:DAYLIGHT
BEGIN:STANDARD
TZOFFSETFROM:+0200
TZOFFSETTO:+0100
TZNAME:CET
DTSTART:20281029T010000
END:STANDARD
END:VTIMEZONE
BEGIN:VEVENT
DTSTART;TZID=Europe/Berlin:20260628T110000
DTEND;TZID=Europe/Berlin:20260628T170000
DTSTAMP:20260425T002210
CREATED:20260312T113825Z
LAST-MODIFIED:20260312T113825Z
UID:10005808-1782644400-1782666000@kleine-erika.de
SUMMARY:Aktionssonntag im Arche-Park | Lüneburg
DESCRIPTION:Von März bis Oktober lädt der Arche-Park am letzten Sonntag im Monat zu Aktionssonntagen ein. Neben wechselnden Familienaktionen öffnet dann auch da Café Futterküche und es gibt Pizza aus dem Holzofen. \nTermine 2026: \n\n\n29.03. Mitmach-Geschichte für Kinder \n\n\n26.04. Familienflohmarkt \n\n\n31.05. Schafschur-Fest \n\n\n28.06. Naturforscher-Tag für Familien \n\n\n26.07. Wasserexperimente für Kinder \n\n\n30.08. Musik bei den Tieren \n\n\n27.09. Apfelsaftpressen \n\n\n25.10. Vom Korn zum Brot \n\n\n jeweils 11:00–17:00 Uhr \n  \nExtra-Termin: \nSamstag\, 21.11.2026 – Arche-Wintermarkt
URL:https://kleine-erika.de/event/aktionssonntag-im-arche-park-lueneburg/2026-06-28/
LOCATION:Arche-Park Lüneburg\, Ochtmisser Kirchsteig 67\, Lüneburg\, 21339
CATEGORIES:Natur & Tiere
ATTACH;FMTTYPE=image/png:https://kleine-erika.de/wp-content/uploads/2026/03/VERANSTALTUNGEN-IN-LUeNEBURG-FUeR-FAMILIEN-3.png
END:VEVENT
BEGIN:VEVENT
DTSTART;TZID=Europe/Berlin:20260629T093000
DTEND;TZID=Europe/Berlin:20260629T113000
DTSTAMP:20260425T002210
CREATED:20260218T103003Z
LAST-MODIFIED:20260220T110832Z
UID:10005768-1782725400-1782732600@kleine-erika.de
SUMMARY:Eltern-Kind-Bewegungsbaustelle | Geschwister-Scholl-Haus Lüneburg
DESCRIPTION:NUR mit ANMELDUNG!
URL:https://kleine-erika.de/event/eltern-kind-bewegungsbaustelle-geschwister-scholl-haus-lueneburg/2026-06-29/
LOCATION:Geschwister-Scholl-Haus\, Carl-von-Ossietzky-Straße 9\, Lüneburg\, 21335
CATEGORIES:Treffen & Vernetzen
ATTACH;FMTTYPE=image/png:https://kleine-erika.de/wp-content/uploads/2026/02/Veranstaltungen-in-Lueneburg-fuer-Familien2.png
END:VEVENT
BEGIN:VEVENT
DTSTART;TZID=Europe/Berlin:20260705T100000
DTEND;TZID=Europe/Berlin:20260705T180000
DTSTAMP:20260425T002210
CREATED:20260410T135314Z
LAST-MODIFIED:20260410T135314Z
UID:10005832-1783245600-1783274400@kleine-erika.de
SUMMARY:Kinderfest im Freilichtmuseum am Kiekeberg
DESCRIPTION:Am Sonntag\, dem 5. Juli\, veranstaltet das Freilichtmuseum am Kiekeberg von 10 bis 18 Uhr ein Kinderfest mit Mitmachaktionen\, Geschichten und Musik auf dem gesamten Gelände. Kinder und Jugendliche unter 18 Jahren haben freien Eintritt\, Erwachsene zahlen 12 Euro. Das Freilichtmuseum liegt vor den Toren Hamburgs in der nördlichen Lüneburger Heide. Aktuelle Informationen sind abrufbar unter kiekeberg-museum.de. \nSelbst machen: Schreiben\, bauen und gestalten \nZwischen 11 und 16.30 Uhr probieren Kinder historische Techniken aus: Sie schreiben mit Feder in Sütterlin-Schrift und testen Schreibmaschinen. Sie werken Buchstützen und basteln Figuren für ein Schattentheater. Musikangebote laden zum Mitmachen ein. Kinder lösen Aufgaben im Märchenparcours und bauen an einer großen Murmelbahn aus Rohren. \nZuhören und eintauchen: Geschichten an mehreren Orten\nBei Lesungen hören Kinder eine Abenteuergeschichte. Im Kamishibai-Theater sehen sie Geschichten auf Bildkarten. Während der Vorführungen beim Korbflechten lauschen Kinder Erzählungen auf Plattdeutsch.
URL:https://kleine-erika.de/event/kinderfest-im-freilichtmuseum-am-kiekeberg/
LOCATION:Freilichtmuseum am Kiekeberg\, Am Kiekeberg 1\, Rosengarten-Ehestorf\, 21224
CATEGORIES:Familien- & Kinderfeste
ATTACH;FMTTYPE=image/jpeg:https://kleine-erika.de/wp-content/uploads/2026/04/2026-Kinderfest-im-Freilichtmuseum-am-Kiekeberg-5.7.-Bild-FLMK.jpg
END:VEVENT
BEGIN:VEVENT
DTSTART;TZID=Europe/Berlin:20260726T110000
DTEND;TZID=Europe/Berlin:20260726T170000
DTSTAMP:20260425T002210
CREATED:20260312T113825Z
LAST-MODIFIED:20260312T113825Z
UID:10005809-1785063600-1785085200@kleine-erika.de
SUMMARY:Aktionssonntag im Arche-Park | Lüneburg
DESCRIPTION:Von März bis Oktober lädt der Arche-Park am letzten Sonntag im Monat zu Aktionssonntagen ein. Neben wechselnden Familienaktionen öffnet dann auch da Café Futterküche und es gibt Pizza aus dem Holzofen. \nTermine 2026: \n\n\n29.03. Mitmach-Geschichte für Kinder \n\n\n26.04. Familienflohmarkt \n\n\n31.05. Schafschur-Fest \n\n\n28.06. Naturforscher-Tag für Familien \n\n\n26.07. Wasserexperimente für Kinder \n\n\n30.08. Musik bei den Tieren \n\n\n27.09. Apfelsaftpressen \n\n\n25.10. Vom Korn zum Brot \n\n\n jeweils 11:00–17:00 Uhr \n  \nExtra-Termin: \nSamstag\, 21.11.2026 – Arche-Wintermarkt
URL:https://kleine-erika.de/event/aktionssonntag-im-arche-park-lueneburg/2026-07-26/
LOCATION:Arche-Park Lüneburg\, Ochtmisser Kirchsteig 67\, Lüneburg\, 21339
CATEGORIES:Natur & Tiere
ATTACH;FMTTYPE=image/png:https://kleine-erika.de/wp-content/uploads/2026/03/VERANSTALTUNGEN-IN-LUeNEBURG-FUeR-FAMILIEN-3.png
END:VEVENT
BEGIN:VEVENT
DTSTART;TZID=Europe/Berlin:20260823T140000
DTEND;TZID=Europe/Berlin:20260823T160000
DTSTAMP:20260425T002210
CREATED:20260223T080741Z
LAST-MODIFIED:20260223T080741Z
UID:10005789-1787493600-1787500800@kleine-erika.de
SUMMARY:Kinderflohmarkt | Wendisch Evern
DESCRIPTION:Hier verkaufen Eltern & Kinder. Außerdem gibt es Kaffee\, Kuchen und einen Eiswagen für einen leckeren Abschluss der Schnäppchenjagd. \nVerkauft wird in der Mehrzweckhalle & auf dem Dorfplatz in Windisch Evern.
URL:https://kleine-erika.de/event/kinderflohmarkt-wendisch-evern/
LOCATION:Mehrzweckhalle Wendisch Evern\, Birkenweg 4\, Wendisch Evern\, 21403
CATEGORIES:Flohmärkte
ATTACH;FMTTYPE=image/jpeg:https://kleine-erika.de/wp-content/uploads/2026/02/1000069692.jpg
END:VEVENT
BEGIN:VEVENT
DTSTART;TZID=Europe/Berlin:20260830T110000
DTEND;TZID=Europe/Berlin:20260830T170000
DTSTAMP:20260425T002210
CREATED:20260312T113825Z
LAST-MODIFIED:20260312T113825Z
UID:10005810-1788087600-1788109200@kleine-erika.de
SUMMARY:Aktionssonntag im Arche-Park | Lüneburg
DESCRIPTION:Von März bis Oktober lädt der Arche-Park am letzten Sonntag im Monat zu Aktionssonntagen ein. Neben wechselnden Familienaktionen öffnet dann auch da Café Futterküche und es gibt Pizza aus dem Holzofen. \nTermine 2026: \n\n\n29.03. Mitmach-Geschichte für Kinder \n\n\n26.04. Familienflohmarkt \n\n\n31.05. Schafschur-Fest \n\n\n28.06. Naturforscher-Tag für Familien \n\n\n26.07. Wasserexperimente für Kinder \n\n\n30.08. Musik bei den Tieren \n\n\n27.09. Apfelsaftpressen \n\n\n25.10. Vom Korn zum Brot \n\n\n jeweils 11:00–17:00 Uhr \n  \nExtra-Termin: \nSamstag\, 21.11.2026 – Arche-Wintermarkt
URL:https://kleine-erika.de/event/aktionssonntag-im-arche-park-lueneburg/2026-08-30/
LOCATION:Arche-Park Lüneburg\, Ochtmisser Kirchsteig 67\, Lüneburg\, 21339
CATEGORIES:Natur & Tiere
ATTACH;FMTTYPE=image/png:https://kleine-erika.de/wp-content/uploads/2026/03/VERANSTALTUNGEN-IN-LUeNEBURG-FUeR-FAMILIEN-3.png
END:VEVENT
BEGIN:VEVENT
DTSTART;TZID=Europe/Berlin:20260913T110000
DTEND;TZID=Europe/Berlin:20260913T120000
DTSTAMP:20260425T002210
CREATED:20260312T111154Z
LAST-MODIFIED:20260312T111218Z
UID:10005803-1789297200-1789300800@kleine-erika.de
SUMMARY:Maxis Kinoabenteuer | Scala Programmkino Lüneburg
DESCRIPTION:Für wen: Kinder ab 4 Jahren \nBei „Maxis Kinoabenteuer“ entdecken Vorschulkinder spielerisch die Welt des Kinos. Mehrere internationale Kurzfilme werden mit einem kleinen Mitmachprogramm verbunden – dabei geht es um den Kinosaal\, die Technik hinter der großen Leinwand und darum\, Filme mit allen Sinnen zu erleben. \nWer mehrere Termine besucht\, kann auf einer kleinen Kinoreise Schritt für Schritt mehr über Filme und das Kino lernen. \nTermine 2026: \n\n\n15.03.2026: Wir entdecken das Kino \n\n\n21.06.2026: Wir entdecken die Kinotechnik \n\n\n13.09.2026: Wir hören im Kino genau hin \n\n\n20.12.2026: Wir erleben Kino mit allen Sinnen \n\n\nWann: Sonntagvormittag\, Dauer ca. 1 Stunde.
URL:https://kleine-erika.de/event/maxis-kinoabenteuer-scala-programmkino-lueneburg/2026-09-13/
LOCATION:Scala Programmkino\, Apothekenstraße 17\, Lüneburg\, 21335
CATEGORIES:Kino
ATTACH;FMTTYPE=image/jpeg:https://kleine-erika.de/wp-content/uploads/2026/03/Bild-4.jpg
END:VEVENT
BEGIN:VEVENT
DTSTART;TZID=Europe/Berlin:20260927T110000
DTEND;TZID=Europe/Berlin:20260927T170000
DTSTAMP:20260425T002210
CREATED:20260312T113825Z
LAST-MODIFIED:20260312T113825Z
UID:10005811-1790506800-1790528400@kleine-erika.de
SUMMARY:Aktionssonntag im Arche-Park | Lüneburg
DESCRIPTION:Von März bis Oktober lädt der Arche-Park am letzten Sonntag im Monat zu Aktionssonntagen ein. Neben wechselnden Familienaktionen öffnet dann auch da Café Futterküche und es gibt Pizza aus dem Holzofen. \nTermine 2026: \n\n\n29.03. Mitmach-Geschichte für Kinder \n\n\n26.04. Familienflohmarkt \n\n\n31.05. Schafschur-Fest \n\n\n28.06. Naturforscher-Tag für Familien \n\n\n26.07. Wasserexperimente für Kinder \n\n\n30.08. Musik bei den Tieren \n\n\n27.09. Apfelsaftpressen \n\n\n25.10. Vom Korn zum Brot \n\n\n jeweils 11:00–17:00 Uhr \n  \nExtra-Termin: \nSamstag\, 21.11.2026 – Arche-Wintermarkt
URL:https://kleine-erika.de/event/aktionssonntag-im-arche-park-lueneburg/2026-09-27/
LOCATION:Arche-Park Lüneburg\, Ochtmisser Kirchsteig 67\, Lüneburg\, 21339
CATEGORIES:Natur & Tiere
ATTACH;FMTTYPE=image/png:https://kleine-erika.de/wp-content/uploads/2026/03/VERANSTALTUNGEN-IN-LUeNEBURG-FUeR-FAMILIEN-3.png
END:VEVENT
BEGIN:VEVENT
DTSTART;TZID=Europe/Berlin:20270220T110000
DTEND;TZID=Europe/Berlin:20270220T120000
DTSTAMP:20260425T002210
CREATED:20260312T111154Z
LAST-MODIFIED:20260312T111218Z
UID:10005804-1803121200-1803124800@kleine-erika.de
SUMMARY:Maxis Kinoabenteuer | Scala Programmkino Lüneburg
DESCRIPTION:Für wen: Kinder ab 4 Jahren \nBei „Maxis Kinoabenteuer“ entdecken Vorschulkinder spielerisch die Welt des Kinos. Mehrere internationale Kurzfilme werden mit einem kleinen Mitmachprogramm verbunden – dabei geht es um den Kinosaal\, die Technik hinter der großen Leinwand und darum\, Filme mit allen Sinnen zu erleben. \nWer mehrere Termine besucht\, kann auf einer kleinen Kinoreise Schritt für Schritt mehr über Filme und das Kino lernen. \nTermine 2026: \n\n\n15.03.2026: Wir entdecken das Kino \n\n\n21.06.2026: Wir entdecken die Kinotechnik \n\n\n13.09.2026: Wir hören im Kino genau hin \n\n\n20.12.2026: Wir erleben Kino mit allen Sinnen \n\n\nWann: Sonntagvormittag\, Dauer ca. 1 Stunde.
URL:https://kleine-erika.de/event/maxis-kinoabenteuer-scala-programmkino-lueneburg/2027-02-20/
LOCATION:Scala Programmkino\, Apothekenstraße 17\, Lüneburg\, 21335
CATEGORIES:Kino
ATTACH;FMTTYPE=image/jpeg:https://kleine-erika.de/wp-content/uploads/2026/03/Bild-4.jpg
END:VEVENT
END:VCALENDAR