BEGIN:VCALENDAR
VERSION:2.0
PRODID:-//kleine ERIKA - ECPv6.15.17.1//NONSGML v1.0//EN
CALSCALE:GREGORIAN
METHOD:PUBLISH
X-ORIGINAL-URL:https://kleine-erika.de
X-WR-CALDESC:Veranstaltungen für kleine ERIKA
REFRESH-INTERVAL;VALUE=DURATION:PT1H
X-Robots-Tag:noindex
X-PUBLISHED-TTL:PT1H
BEGIN:VTIMEZONE
TZID:Europe/Berlin
BEGIN:DAYLIGHT
TZOFFSETFROM:+0100
TZOFFSETTO:+0200
TZNAME:CEST
DTSTART:20250330T010000
END:DAYLIGHT
BEGIN:STANDARD
TZOFFSETFROM:+0200
TZOFFSETTO:+0100
TZNAME:CET
DTSTART:20251026T010000
END:STANDARD
BEGIN:DAYLIGHT
TZOFFSETFROM:+0100
TZOFFSETTO:+0200
TZNAME:CEST
DTSTART:20260329T010000
END:DAYLIGHT
BEGIN:STANDARD
TZOFFSETFROM:+0200
TZOFFSETTO:+0100
TZNAME:CET
DTSTART:20261025T010000
END:STANDARD
BEGIN:DAYLIGHT
TZOFFSETFROM:+0100
TZOFFSETTO:+0200
TZNAME:CEST
DTSTART:20270328T010000
END:DAYLIGHT
BEGIN:STANDARD
TZOFFSETFROM:+0200
TZOFFSETTO:+0100
TZNAME:CET
DTSTART:20271031T010000
END:STANDARD
END:VTIMEZONE
BEGIN:VEVENT
DTSTART;TZID=Europe/Berlin:20260327T173000
DTEND;TZID=Europe/Berlin:20260327T173000
DTSTAMP:20260424T215917
CREATED:20260122T154726Z
LAST-MODIFIED:20260220T111144Z
UID:10005739-1774632600-1774632600@kleine-erika.de
SUMMARY:Let's Play - offener Spieleabend | Lüneburg Kaltenmoor
DESCRIPTION:Offener Spieleabend in entspannter Atmosphäre: Brett-\, Karten- und Würfelspiele stehen bereit und werden bei Bedarf erklärt. Einfach vorbeikommen und mitspielen – keine Anmeldung nötig. \nTermine (immer am 4. Freitag im Monat) \n\n\n27.02. \n\n\n27.03. \n\n\n24.04. \n\n\n\n 
URL:https://kleine-erika.de/event/lets-play-offener-spieleabend-lueneburg-kaltenmoor/2026-03-27/
LOCATION:Ratsbücherei (Zweigstelle Kaltenmoor)\, Graf-Schenk-von-Stauffenberg-Straße 1\, Lüneburg\, 21337
ATTACH;FMTTYPE=image/png:https://kleine-erika.de/wp-content/uploads/2026/01/Veranstaltungen-in-Lueneburg-fuer-Familien10.png
END:VEVENT
BEGIN:VEVENT
DTSTART;TZID=Europe/Berlin:20260329T110000
DTEND;TZID=Europe/Berlin:20260329T170000
DTSTAMP:20260424T215917
CREATED:20260312T113825Z
LAST-MODIFIED:20260312T113825Z
UID:10005805-1774782000-1774803600@kleine-erika.de
SUMMARY:Aktionssonntag im Arche-Park | Lüneburg
DESCRIPTION:Von März bis Oktober lädt der Arche-Park am letzten Sonntag im Monat zu Aktionssonntagen ein. Neben wechselnden Familienaktionen öffnet dann auch da Café Futterküche und es gibt Pizza aus dem Holzofen. \nTermine 2026: \n\n\n29.03. Mitmach-Geschichte für Kinder \n\n\n26.04. Familienflohmarkt \n\n\n31.05. Schafschur-Fest \n\n\n28.06. Naturforscher-Tag für Familien \n\n\n26.07. Wasserexperimente für Kinder \n\n\n30.08. Musik bei den Tieren \n\n\n27.09. Apfelsaftpressen \n\n\n25.10. Vom Korn zum Brot \n\n\n jeweils 11:00–17:00 Uhr \n  \nExtra-Termin: \nSamstag\, 21.11.2026 – Arche-Wintermarkt
URL:https://kleine-erika.de/event/aktionssonntag-im-arche-park-lueneburg/2026-03-29/
LOCATION:Arche-Park Lüneburg\, Ochtmisser Kirchsteig 67\, Lüneburg\, 21339
CATEGORIES:Natur & Tiere
ATTACH;FMTTYPE=image/png:https://kleine-erika.de/wp-content/uploads/2026/03/VERANSTALTUNGEN-IN-LUeNEBURG-FUeR-FAMILIEN-3.png
END:VEVENT
BEGIN:VEVENT
DTSTART;TZID=Europe/Berlin:20260329T180000
DTEND;TZID=Europe/Berlin:20260329T190000
DTSTAMP:20260424T215917
CREATED:20260218T111615Z
LAST-MODIFIED:20260218T111651Z
UID:10005778-1774807200-1774810800@kleine-erika.de
SUMMARY:Löwenherzen - Schauspiel | Theater Lüneburg
DESCRIPTION:Ein schiefäugiger Kuscheltierlöwe reist von Bangladesch nach Europa und begegnet Kindern auf der ganzen Welt. „Löwenherzen“ erzählt von Träumen\, Hoffnung und globaler Ungleichheit – mutig\, poetisch und berührend. \nDas Stück greift große Themen wie Kinderarbeit\, Migration und Leihmutterschaft auf und lädt dazu ein\, über Gerechtigkeit und Zukunft nachzudenken. \nAltersempfehlung: ab 10 Jahren \nBesonderheit: Die Vorstellung am 22.04.2026 ist eine Relaxed Performance mit lockerer Atmosphäre. \nAlle Termine: \n\n\nMi\, 18.03.2026 | 10:00 Uhr (Premiere) \n\n\nSo\, 29.03.2026 | 18:00 Uhr \n\n\nDo\, 16.04.2026 | 10:00 Uhr \n\n\nMi\, 22.04.2026 | 10:00 Uhr (Relaxed Performance) \n\n\nSo\, 03.05.2026 | 18:00 Uhr \n\n\nFr\, 08.05.2026 | 10:00 Uhr \n\n\nDo\, 21.05.2026 | 10:00 Uhr \n\n\n 
URL:https://kleine-erika.de/event/loewenherzen-schauspiel-theater-lueneburg/2026-03-29/
LOCATION:Theater Lüneburg\, AN DEN REEPERBAHNEN 3\, Lüneburg\, 21335
CATEGORIES:Theater | Bühne
ATTACH;FMTTYPE=image/png:https://kleine-erika.de/wp-content/uploads/2026/01/Theater-fuer-Kinder-in-Lueneburg.png
END:VEVENT
BEGIN:VEVENT
DTSTART;TZID=Europe/Berlin:20260409T153000
DTEND;TZID=Europe/Berlin:20260409T160000
DTSTAMP:20260424T215917
CREATED:20260122T155338Z
LAST-MODIFIED:20260220T110619Z
UID:10005746-1775748600-1775750400@kleine-erika.de
SUMMARY:Bilderbuchkino | Lüneburg Kaltenmoor
DESCRIPTION:
URL:https://kleine-erika.de/event/bilderbuchkino-lueneburg-kaltenmoor/2026-04-09/
LOCATION:Ratsbücherei (Zweigstelle Kaltenmoor)\, Graf-Schenk-von-Stauffenberg-Straße 1\, Lüneburg\, 21337
CATEGORIES:Lesen & Vorlesen
ATTACH;FMTTYPE=image/png:https://kleine-erika.de/wp-content/uploads/2026/01/Veranstaltungen-in-Lueneburg-fuer-Familien6.png
END:VEVENT
BEGIN:VEVENT
DTSTART;TZID=Europe/Berlin:20260412T140000
DTEND;TZID=Europe/Berlin:20260412T160000
DTSTAMP:20260424T215917
CREATED:20260305T082646Z
LAST-MODIFIED:20260305T082646Z
UID:10005792-1776002400-1776009600@kleine-erika.de
SUMMARY:Offene Turnhalle | Lüneburg
DESCRIPTION:In der offenen Turnhalle können Kinder gemeinsam mit ihren Familien spielen und sich bewegen. Eine Anmeldung oder Vereinsmitgliedschaft ist nicht erforderlich. \nFür wen: Kinder von 0–6 Jahren \nWann: immer am 2. Sonntag im Monat\, 14–16 Uhr
URL:https://kleine-erika.de/event/offene-turnhalle-lueneburg/2026-04-12/
LOCATION:Sporthalle Grundschule Lüne\, Am Domänenhof 9\, Lüneburg\, 21337
CATEGORIES:Bewegung / Sport
ATTACH;FMTTYPE=image/jpeg:https://kleine-erika.de/wp-content/uploads/2026/03/573f309a-73e7-4906-800c-bce747f22a9f.jpg
END:VEVENT
BEGIN:VEVENT
DTSTART;TZID=Europe/Berlin:20260417T153000
DTEND;TZID=Europe/Berlin:20260417T173000
DTSTAMP:20260424T215917
CREATED:20260218T104650Z
LAST-MODIFIED:20260220T104837Z
UID:10005775-1776439800-1776447000@kleine-erika.de
SUMMARY:Kreativzeit für Grundschulkinder | mosaique Lüneburg
DESCRIPTION:Jeden 1.&3. Freitag wird hier experimentiert: mit Farbe\, Pinsel\, Papier\, Pappe\, Stoffen\, Klebstoff\, Schere & viel mehr. Auf Grundschulkinder wartet hier jede Menge Spaß. Es werden kleine bunte Erinnerungen zu wechselnden Themen erschaffen. \nEinstieg jederzeit möglich. Offen für Alle\, insbesondere geeignet für ca 6-11 Jahre (i.d.R. ohne Eltern). \nUm besser planen zu können\, bitte vorher anmelden bei kids@mosaique-lueneburg.de
URL:https://kleine-erika.de/event/kreativzeit-fuer-grundschulkinder-mosaique-lueneburg/2026-04-17/
LOCATION:mosaique e.V. – Haus der Kulturen\, Katzenstraße 1\, Lüneburg\, 21335
CATEGORIES:Kreatives
ATTACH;FMTTYPE=image/png:https://kleine-erika.de/wp-content/uploads/2026/02/Veranstaltungen-in-Lueneburg-fuer-Familien.png
END:VEVENT
BEGIN:VEVENT
DTSTART;TZID=Europe/Berlin:20260417T193000
DTEND;TZID=Europe/Berlin:20260417T193000
DTSTAMP:20260424T215917
CREATED:20260410T132843Z
LAST-MODIFIED:20260410T132843Z
UID:10005827-1776454200-1776454200@kleine-erika.de
SUMMARY:Flohmarkt in der Kita Regenbogen | Lüneburg
DESCRIPTION:Hier gibt es Kleidung\, Spielzeug und jede Menge mehr für Familien.
URL:https://kleine-erika.de/event/flohmarkt-in-der-kita-regenbogen-lueneburg/
LOCATION:Kita Regenbogen\, Breite Wiese 36\, Lüneburg\, 21339
CATEGORIES:Flohmärkte
ATTACH;FMTTYPE=image/png:https://kleine-erika.de/wp-content/uploads/2026/04/Flohmarkt-in-Lueneburg-scaled.png
END:VEVENT
BEGIN:VEVENT
DTSTART;TZID=Europe/Berlin:20260418T100000
DTEND;TZID=Europe/Berlin:20260418T100000
DTSTAMP:20260424T215917
CREATED:20260417T072106Z
LAST-MODIFIED:20260417T072136Z
UID:10005841-1776506400-1776506400@kleine-erika.de
SUMMARY:Flohmarkt in der Kita Oedeme
DESCRIPTION:Der Frühling ist da. Da muss auch neue Kleidung für die Kids her. NEU muss dabei aber nicht wörtlich genommen werden. Beim Flohmarkt der Kita Oedeme findest du jede Menge Auswahl von Kleidung über Spielzeug und anderen schönen Dingen\, die Familien so brauchen. \nKaffee & Kuchen gibt’s auch!
URL:https://kleine-erika.de/event/flohmarkt-in-der-kita-oedeme/
LOCATION:Kita Oedeme\, Im Dorf 10\, Lüneburg\, 21335
CATEGORIES:Flohmärkte
ATTACH;FMTTYPE=image/png:https://kleine-erika.de/wp-content/uploads/2026/04/image-2.png
END:VEVENT
BEGIN:VEVENT
DTSTART;TZID=Europe/Berlin:20260418T100000
DTEND;TZID=Europe/Berlin:20260418T130000
DTSTAMP:20260424T215917
CREATED:20260312T105743Z
LAST-MODIFIED:20260312T105743Z
UID:10005799-1776506400-1776517200@kleine-erika.de
SUMMARY:Kinderbasar | Amelinghausen
DESCRIPTION:Beim Kinderbasar in der Lopautalhalle werden Kleidung\, Schuhe\, Babyausstattung\, Kinderwagen\, Autositze\, Spielwaren\, Bücher und vieles mehr angeboten. \nFür wen: Familien \nWann: Samstag\, 18. April 2026\, 10–13 Uhr (Einlass für Schwangere ab 9:30 Uhr)
URL:https://kleine-erika.de/event/kinderbasar-amelinghausen/
LOCATION:Lopauhalle Amelinghausen\, zum Lopautal 22a\, Amelinghausen\, 21385
CATEGORIES:Flohmärkte
ATTACH;FMTTYPE=image/jpeg:https://kleine-erika.de/wp-content/uploads/2026/03/867cd089-774f-4b28-821d-bb24f406fc80.jpg
END:VEVENT
BEGIN:VEVENT
DTSTART;TZID=Europe/Berlin:20260418T100000
DTEND;TZID=Europe/Berlin:20260418T130000
DTSTAMP:20260424T215917
CREATED:20260218T103736Z
LAST-MODIFIED:20260220T101550Z
UID:10005771-1776506400-1776517200@kleine-erika.de
SUMMARY:Frauenbasar in der Oase | Lüneburg
DESCRIPTION:Endlich wieder stöbern und Kleidung shoppen ohne schlechtes Gewissen. In der Oase findet wieder der beliebte Frauenbasar statt.
URL:https://kleine-erika.de/event/frauenbasar-in-der-oase-lueneburg/
LOCATION:Oase Lüneburg\, Im Dorf 2\, Lüneburg\, 21335
CATEGORIES:Flohmärkte
ATTACH;FMTTYPE=image/jpeg:https://kleine-erika.de/wp-content/uploads/2026/02/image1.jpeg
END:VEVENT
BEGIN:VEVENT
DTSTART;TZID=Europe/Berlin:20260418T110000
DTEND;TZID=Europe/Berlin:20260418T140000
DTSTAMP:20260424T215917
CREATED:20260410T135800Z
LAST-MODIFIED:20260410T135800Z
UID:10005833-1776510000-1776520800@kleine-erika.de
SUMMARY:Kinder-Flohmarkt in der Sporthalle Rottorf
DESCRIPTION:Neben vielen Ständen gibt es Kaffee und ein Kuchenbuffet.
URL:https://kleine-erika.de/event/kinder-flohmarkt-in-der-sporthalle-rottorf/
LOCATION:Sporthalle Rottorf\, Roddauweg\, Winsen (Luhe)\, 21423
CATEGORIES:Flohmärkte
ATTACH;FMTTYPE=image/jpeg:https://kleine-erika.de/wp-content/uploads/2026/04/WA_1773249466859.jpg
END:VEVENT
BEGIN:VEVENT
DTSTART;TZID=Europe/Berlin:20260418T140000
DTEND;TZID=Europe/Berlin:20260418T170000
DTSTAMP:20260424T215917
CREATED:20260417T090805Z
LAST-MODIFIED:20260417T090854Z
UID:10005842-1776520800-1776531600@kleine-erika.de
SUMMARY:Flohmarkt rund ums Kind | Bienenbüttel
DESCRIPTION:Rein ins Getümmel mit leeren Türen – rauskommen mit neuer Kleidung für den Frühling\, ein paar Büchern & Spielen fürs Kind. Beim Flohmarkt rund ums Kind in Bienenbüttel findet ihr mit Sicherheit etwas. \nEin Kaffee- und Kuchenbuffet ist auch da\, um eine kleine Pause zu machen oder euch am Ende zu belohnen.
URL:https://kleine-erika.de/event/flohmarkt-rund-ums-kind-bienenbuettel/
LOCATION:Mühlenbachzentrum Bienenbüttel\, Marktplatz 1\, Bienenbüttel\, 29553
CATEGORIES:Flohmärkte
ATTACH;FMTTYPE=image/jpeg:https://kleine-erika.de/wp-content/uploads/2026/04/528b08a6-f870-4379-a399-bec71b56b4f0.jpg
END:VEVENT
BEGIN:VEVENT
DTSTART;TZID=Europe/Berlin:20260418T150000
DTEND;TZID=Europe/Berlin:20260418T160000
DTSTAMP:20260424T215917
CREATED:20260312T121238Z
LAST-MODIFIED:20260312T121238Z
UID:10005815-1776524400-1776528000@kleine-erika.de
SUMMARY:Bilderbuchkino mit Kinderbuchautorin Nina Kwee | Museum Lüneburg
DESCRIPTION:Bilderbuchkino für Kinder\, bei dem Autorin Nina Kwee aus ihren Büchern „Ein Baum für alle“ und „Einfach Kalle“ liest. \nWann: 18.04.2026\, 15:00–16:00 Uhr \nFür wen: Kinder von 3–7 Jahren \nPreis: 5 € Kinder\, Erwachsene frei \nAnmeldung: nicht erforderlich
URL:https://kleine-erika.de/event/bilderbuchkino-mit-kinderbuchautorin-nina-kwee-museum-lueneburg/
LOCATION:Museum Lüneburg\, Willy-Brandt-Straße 1\, Lüneburg\, 21335
CATEGORIES:Lesen & Vorlesen
ATTACH;FMTTYPE=image/png:https://kleine-erika.de/wp-content/uploads/2026/01/Veranstaltungen-in-Lueneburg-fuer-Familien6.png
END:VEVENT
BEGIN:VEVENT
DTSTART;VALUE=DATE:20260419
DTEND;VALUE=DATE:20260420
DTSTAMP:20260424T215917
CREATED:20260218T102304Z
LAST-MODIFIED:20260220T102346Z
UID:10005763-1776556800-1776643199@kleine-erika.de
SUMMARY:Flohmarkt in Radbruch
DESCRIPTION:Tragt euch den Termin schon einmal in euren Kalender ein.
URL:https://kleine-erika.de/event/flohmarkt-in-radbruch/
CATEGORIES:Flohmärkte
ATTACH;FMTTYPE=image/jpeg:https://kleine-erika.de/wp-content/uploads/2026/02/19da2380-4e6b-4ec1-a008-e8fd4e39fd2e.jpg
END:VEVENT
BEGIN:VEVENT
DTSTART;TZID=Europe/Berlin:20260419T110000
DTEND;TZID=Europe/Berlin:20260419T150000
DTSTAMP:20260424T215917
CREATED:20260417T091842Z
LAST-MODIFIED:20260417T091843Z
UID:10005844-1776596400-1776610800@kleine-erika.de
SUMMARY:Flohmarkt im Wohngebiet Habichtshorst | Winsen (Luhe)
DESCRIPTION:Ihr erkennt alle teilnehmenden Haushalte am roten Luftballon an der Straße. Im Wohngebiet gibt es auch einen Spielplatz und einen Kuchenverkauf für den guten Zweck.
URL:https://kleine-erika.de/event/flohmarkt-im-wohngebiet-habichtshorst-winsen-luhe/
LOCATION:Winsen (Luhe)
CATEGORIES:Flohmärkte
ATTACH;FMTTYPE=image/jpeg:https://kleine-erika.de/wp-content/uploads/2026/04/eda4a959-f985-4dd5-b7bc-3cb3a294ad75.jpg
END:VEVENT
BEGIN:VEVENT
DTSTART;TZID=Europe/Berlin:20260419T110000
DTEND;TZID=Europe/Berlin:20260419T150000
DTSTAMP:20260424T215917
CREATED:20260410T133225Z
LAST-MODIFIED:20260410T133225Z
UID:10005828-1776596400-1776610800@kleine-erika.de
SUMMARY:Flohmarkt rund ums Rathaus | Reppenstedt
DESCRIPTION:Hier könnt ihr an über 100 Ständen Schnäppchen schlagen. Außerdem gibt es ein Kuchenbuffet\, Leckereien aus dem Imbisswagen von Isermann und eure Kids können sich schminken lassen.
URL:https://kleine-erika.de/event/flohmarkt-rund-ums-rathaus-reppenstedt/
LOCATION:Rathausplatz Reppenstedt\, Rathausplatz\, Reppenstedt\, 21391
CATEGORIES:Flohmärkte
ATTACH;FMTTYPE=image/jpeg:https://kleine-erika.de/wp-content/uploads/2026/04/image0.jpeg
END:VEVENT
BEGIN:VEVENT
DTSTART;TZID=Europe/Berlin:20260419T120000
DTEND;TZID=Europe/Berlin:20260419T170000
DTSTAMP:20260424T215917
CREATED:20260119T110357Z
LAST-MODIFIED:20260220T102440Z
UID:10005722-1776600000-1776618000@kleine-erika.de
SUMMARY:Flohmarkt im Hanseviertel Lüneburg
DESCRIPTION:Einer der beliebtesten Flohmärkte in Lüneburg ist wieder da: Privater Haus-\, Hof- und Garagenflohmarkt im gesamten Viertel. Vor allem Familien kommen hier voll auf ihre Kosten. Die tollen Spielplätze drum herum machen den Familienausflug richtig rund. \nDetails: \n📅 Sonntag\, 19. April 2026 \n⏰ ab 12:00 Uhr \n📍 Hanseviertel\, Lüneburg
URL:https://kleine-erika.de/event/flohmarkt-im-hanseviertel-lueneburg/
LOCATION:Hanseviertel Lüneburg\, Lüneburg\, 21337
CATEGORIES:Flohmärkte
ATTACH;FMTTYPE=image/jpeg:https://kleine-erika.de/wp-content/uploads/2026/01/9bfb0f67-4dd1-47c4-af68-eab637d7cf83.jpeg
END:VEVENT
BEGIN:VEVENT
DTSTART;TZID=Europe/Berlin:20260423T160000
DTEND;TZID=Europe/Berlin:20260423T171500
DTSTAMP:20260424T215917
CREATED:20260331T141901Z
LAST-MODIFIED:20260331T141901Z
UID:10005824-1776960000-1776964500@kleine-erika.de
SUMMARY:Familien-Singen | Lüneburg
DESCRIPTION:Gemeinsam singen und Musik erleben.
URL:https://kleine-erika.de/event/familien-singen-lueneburg/2026-04-23/
LOCATION:St. Stephanus-Platz\, St. Stephanus-Platz\, Lüneburg\, 21337
CATEGORIES:Musik
ATTACH;FMTTYPE=image/jpeg:https://kleine-erika.de/wp-content/uploads/2026/03/67d11e84-4b2b-4d0c-a352-4e88737a943d.jpg
END:VEVENT
BEGIN:VEVENT
DTSTART;TZID=Europe/Berlin:20260424T160000
DTEND;TZID=Europe/Berlin:20260424T164500
DTSTAMP:20260424T215917
CREATED:20260413T093106Z
LAST-MODIFIED:20260413T093106Z
UID:10005838-1777046400-1777049100@kleine-erika.de
SUMMARY:Bilderbuchkino | Kinder- und Jugendücherei Lüneburg
DESCRIPTION:Am letzten Freitag im Monat könnt ihr mit euren Kids in der Kinder- und Jugendbücherei beim kostenlosen Bilderbuchkino entspannt ins Wochenende starten. Jeden Monat gibt es eine wechselnde Geschichte für Kinder von 3-6 Jahren.
URL:https://kleine-erika.de/event/bilderbuchkino-kinder-und-jugenduecherei-lueneburg/2026-04-24/
LOCATION:Kinder- und Jugendbücherei\, Auf dem Klosterhof 1 c-e\, Lüneburg\, 21335
CATEGORIES:Lesen & Vorlesen
ATTACH;FMTTYPE=image/jpeg:https://kleine-erika.de/wp-content/uploads/2026/04/Bild-6.jpeg
END:VEVENT
BEGIN:VEVENT
DTSTART;TZID=Europe/Berlin:20260424T173000
DTEND;TZID=Europe/Berlin:20260424T173000
DTSTAMP:20260424T215917
CREATED:20260122T154726Z
LAST-MODIFIED:20260220T111144Z
UID:10005740-1777051800-1777051800@kleine-erika.de
SUMMARY:Let's Play - offener Spieleabend | Lüneburg Kaltenmoor
DESCRIPTION:Offener Spieleabend in entspannter Atmosphäre: Brett-\, Karten- und Würfelspiele stehen bereit und werden bei Bedarf erklärt. Einfach vorbeikommen und mitspielen – keine Anmeldung nötig. \nTermine (immer am 4. Freitag im Monat) \n\n\n27.02. \n\n\n27.03. \n\n\n24.04. \n\n\n\n 
URL:https://kleine-erika.de/event/lets-play-offener-spieleabend-lueneburg-kaltenmoor/2026-04-24/
LOCATION:Ratsbücherei (Zweigstelle Kaltenmoor)\, Graf-Schenk-von-Stauffenberg-Straße 1\, Lüneburg\, 21337
ATTACH;FMTTYPE=image/png:https://kleine-erika.de/wp-content/uploads/2026/01/Veranstaltungen-in-Lueneburg-fuer-Familien10.png
END:VEVENT
END:VCALENDAR