BEGIN:VCALENDAR
VERSION:2.0
PRODID:-//kleine ERIKA - ECPv6.15.17.1//NONSGML v1.0//EN
CALSCALE:GREGORIAN
METHOD:PUBLISH
X-WR-CALNAME:kleine ERIKA
X-ORIGINAL-URL:https://kleine-erika.de
X-WR-CALDESC:Veranstaltungen für kleine ERIKA
REFRESH-INTERVAL;VALUE=DURATION:PT1H
X-Robots-Tag:noindex
X-PUBLISHED-TTL:PT1H
BEGIN:VTIMEZONE
TZID:Europe/Berlin
BEGIN:DAYLIGHT
TZOFFSETFROM:+0100
TZOFFSETTO:+0200
TZNAME:CEST
DTSTART:20250330T010000
END:DAYLIGHT
BEGIN:STANDARD
TZOFFSETFROM:+0200
TZOFFSETTO:+0100
TZNAME:CET
DTSTART:20251026T010000
END:STANDARD
BEGIN:DAYLIGHT
TZOFFSETFROM:+0100
TZOFFSETTO:+0200
TZNAME:CEST
DTSTART:20260329T010000
END:DAYLIGHT
BEGIN:STANDARD
TZOFFSETFROM:+0200
TZOFFSETTO:+0100
TZNAME:CET
DTSTART:20261025T010000
END:STANDARD
BEGIN:DAYLIGHT
TZOFFSETFROM:+0100
TZOFFSETTO:+0200
TZNAME:CEST
DTSTART:20270328T010000
END:DAYLIGHT
BEGIN:STANDARD
TZOFFSETFROM:+0200
TZOFFSETTO:+0100
TZNAME:CET
DTSTART:20271031T010000
END:STANDARD
END:VTIMEZONE
BEGIN:VEVENT
DTSTART;TZID=Europe/Berlin:20260508T080000
DTEND;TZID=Europe/Berlin:20260508T173000
DTSTAMP:20260420T153638
CREATED:20260218T104650Z
LAST-MODIFIED:20260220T104837Z
UID:10005776-1778227200-1778261400@kleine-erika.de
SUMMARY:Kreativzeit für Grundschulkinder | mosaique Lüneburg
DESCRIPTION:Jeden 1.&3. Freitag wird hier experimentiert: mit Farbe\, Pinsel\, Papier\, Pappe\, Stoffen\, Klebstoff\, Schere & viel mehr. Auf Grundschulkinder wartet hier jede Menge Spaß. Es werden kleine bunte Erinnerungen zu wechselnden Themen erschaffen. \nEinstieg jederzeit möglich. Offen für Alle\, insbesondere geeignet für ca 6-11 Jahre (i.d.R. ohne Eltern). \nUm besser planen zu können\, bitte vorher anmelden bei kids@mosaique-lueneburg.de
URL:https://kleine-erika.de/event/kreativzeit-fuer-grundschulkinder-mosaique-lueneburg/2026-05-08/
LOCATION:mosaique e.V. – Haus der Kulturen\, Katzenstraße 1\, Lüneburg\, 21335
CATEGORIES:Kreatives
ATTACH;FMTTYPE=image/png:https://kleine-erika.de/wp-content/uploads/2026/02/Veranstaltungen-in-Lueneburg-fuer-Familien.png
END:VEVENT
END:VCALENDAR